BEGIN:VCALENDAR
VERSION:2.0
PRODID:-//Building Potential - ECPv6.15.20//NONSGML v1.0//EN
CALSCALE:GREGORIAN
METHOD:PUBLISH
X-WR-CALNAME:Building Potential
X-ORIGINAL-URL:https://buildingpotential.org
X-WR-CALDESC:Events for Building Potential
REFRESH-INTERVAL;VALUE=DURATION:PT1H
X-Robots-Tag:noindex
X-PUBLISHED-TTL:PT1H
BEGIN:VTIMEZONE
TZID:America/Los_Angeles
BEGIN:DAYLIGHT
TZOFFSETFROM:-0800
TZOFFSETTO:-0700
TZNAME:PDT
DTSTART:20170312T100000
END:DAYLIGHT
BEGIN:STANDARD
TZOFFSETFROM:-0700
TZOFFSETTO:-0800
TZNAME:PST
DTSTART:20171105T090000
END:STANDARD
BEGIN:DAYLIGHT
TZOFFSETFROM:-0800
TZOFFSETTO:-0700
TZNAME:PDT
DTSTART:20180311T100000
END:DAYLIGHT
BEGIN:STANDARD
TZOFFSETFROM:-0700
TZOFFSETTO:-0800
TZNAME:PST
DTSTART:20181104T090000
END:STANDARD
BEGIN:DAYLIGHT
TZOFFSETFROM:-0800
TZOFFSETTO:-0700
TZNAME:PDT
DTSTART:20190310T100000
END:DAYLIGHT
BEGIN:STANDARD
TZOFFSETFROM:-0700
TZOFFSETTO:-0800
TZNAME:PST
DTSTART:20191103T090000
END:STANDARD
BEGIN:DAYLIGHT
TZOFFSETFROM:-0800
TZOFFSETTO:-0700
TZNAME:PDT
DTSTART:20200308T100000
END:DAYLIGHT
BEGIN:STANDARD
TZOFFSETFROM:-0700
TZOFFSETTO:-0800
TZNAME:PST
DTSTART:20201101T090000
END:STANDARD
END:VTIMEZONE
BEGIN:VEVENT
DTSTART;TZID=America/Los_Angeles:20190117T180000
DTEND;TZID=America/Los_Angeles:20190117T203000
DTSTAMP:20260423T081155
CREATED:20190110T221747Z
LAST-MODIFIED:20190110T221747Z
UID:10000272-1547748000-1547757000@buildingpotential.org
SUMMARY:Mix & Mingle
DESCRIPTION:Don’t miss our annual Mix & Mingle with dinner & wine & fun! Connect with industry peers\, forge new friendships\, and rekindle old ones.\nHave fun and benefit your career at the same time! \nClick here to register.
URL:https://buildingpotential.org/event/mix-mingle/
END:VEVENT
BEGIN:VEVENT
DTSTART;TZID=America/Los_Angeles:20190117T110000
DTEND;TZID=America/Los_Angeles:20190117T130000
DTSTAMP:20260423T081155
CREATED:20190110T221539Z
LAST-MODIFIED:20190110T221608Z
UID:10000271-1547722800-1547730000@buildingpotential.org
SUMMARY:Regional Economic Outlook
DESCRIPTION:Start your year off right by learning about the regional 2019 economic outlook based on labor force\, wage\, and industry employment trends including projected employment growth by industry. Consumer confidence and a spotlight on certain construction trends (e.g. housing starts) will be discussed in relation to current information provided by the Economic and Revenue Forecast Council. \nClick here to register.
URL:https://buildingpotential.org/event/regional-economic-outlook/
END:VEVENT
BEGIN:VEVENT
DTSTART;TZID=America/Los_Angeles:20181108T113000
DTEND;TZID=America/Los_Angeles:20181108T130000
DTSTAMP:20260423T081155
CREATED:20181010T172130Z
LAST-MODIFIED:20181010T172130Z
UID:10000266-1541676600-1541682000@buildingpotential.org
SUMMARY:The Internet of Things
DESCRIPTION:Across all industries\, a growing buzz has surfaced around the term “Internet of Things” (IoT). Join us for a look at how IoT is impacting the electrical industry and our customers. \n 
URL:https://buildingpotential.org/event/the-internet-of-things/
LOCATION:Smart Buildings Center\, 1200 12th Ave S\, Seattle\, WA\, 98144
END:VEVENT
END:VCALENDAR