BEGIN:VCALENDAR
VERSION:2.0
PRODID:-//Building Potential - ECPv6.15.20//NONSGML v1.0//EN
CALSCALE:GREGORIAN
METHOD:PUBLISH
X-ORIGINAL-URL:https://buildingpotential.org
X-WR-CALDESC:Events for Building Potential
REFRESH-INTERVAL;VALUE=DURATION:PT1H
X-Robots-Tag:noindex
X-PUBLISHED-TTL:PT1H
BEGIN:VTIMEZONE
TZID:America/Los_Angeles
BEGIN:DAYLIGHT
TZOFFSETFROM:-0800
TZOFFSETTO:-0700
TZNAME:PDT
DTSTART:20230312T100000
END:DAYLIGHT
BEGIN:STANDARD
TZOFFSETFROM:-0700
TZOFFSETTO:-0800
TZNAME:PST
DTSTART:20231105T090000
END:STANDARD
BEGIN:DAYLIGHT
TZOFFSETFROM:-0800
TZOFFSETTO:-0700
TZNAME:PDT
DTSTART:20240310T100000
END:DAYLIGHT
BEGIN:STANDARD
TZOFFSETFROM:-0700
TZOFFSETTO:-0800
TZNAME:PST
DTSTART:20241103T090000
END:STANDARD
BEGIN:DAYLIGHT
TZOFFSETFROM:-0800
TZOFFSETTO:-0700
TZNAME:PDT
DTSTART:20250309T100000
END:DAYLIGHT
BEGIN:STANDARD
TZOFFSETFROM:-0700
TZOFFSETTO:-0800
TZNAME:PST
DTSTART:20251102T090000
END:STANDARD
END:VTIMEZONE
BEGIN:VEVENT
DTSTART;TZID=America/Los_Angeles:20240130T150000
DTEND;TZID=America/Los_Angeles:20240130T170000
DTSTAMP:20260420T105054
CREATED:20240130T042355Z
LAST-MODIFIED:20240130T042355Z
UID:10000306-1706626800-1706634000@buildingpotential.org
SUMMARY:Energy Insights Forum
DESCRIPTION:Join us on January 30th at 3pm for the Energy Insights Forum! The Seattle and Bellevue 2030 Districts along with Building Potential (formerly Northwest Energy Efficiency Council) host this back-to-back panel discussion on how to reduce demand-side energy usage. \nLearn about the policies that impact the industry and discover the incentives propelling sustainable practices forward. Hear from property managers and service providers as they delve into the practicalities of reducing building energy use. Gain valuable insights into successful strategies\, implementation challenges\, and collaborative approaches that are transforming the sector. \nA networking break between the panels offers a unique opportunity to connect with fellow professionals\, fostering collaboration and knowledge exchange. Following the panels\, unwind and continue the conversation at the happy hour to continue the discussion. \nWe hope to see you there! \nRegister Here
URL:https://buildingpotential.org/event/energy-insights-forum/
LOCATION:Smart Building Center\, 1200 12th Ave S\, Seattle\, WA\, 98144
GEO:47.5928083;-122.3159563
X-APPLE-STRUCTURED-LOCATION;VALUE=URI;X-ADDRESS=Smart Building Center 1200 12th Ave S Seattle WA 98144;X-APPLE-RADIUS=500;X-TITLE=1200 12th Ave S:geo:-122.3159563,47.5928083
END:VEVENT
END:VCALENDAR